BEGIN:VCALENDAR
VERSION:2.0
PRODID:icalendar-ruby
CALSCALE:GREGORIAN
METHOD:PUBLISH
BEGIN:VEVENT
DTSTAMP:20260423T053252Z
UID:2149701033
DTSTART:20260516T150000Z
DTEND:20260516T160000Z
CLASS:PUBLIC
DESCRIPTION:Kanada Vizalariga SI Yordamida Topshirish: TRV
LOCATION:
ORGANIZER;CN=:mailto:
SEQUENCE:1776922372
STATUS:CONFIRMED
SUMMARY:Kanada Vizalariga SI Yordamida Topshirish: TRV
END:VEVENT
END:VCALENDAR
