BEGIN:VCALENDAR
VERSION:2.0
PRODID:icalendar-ruby
CALSCALE:GREGORIAN
METHOD:PUBLISH
BEGIN:VEVENT
DTSTAMP:20260423T025631Z
UID:2149700882
DTSTART:20260425T150000Z
DTEND:20260425T180000Z
CLASS:PUBLIC
DESCRIPTION:Kanada Vizalariga SI Yordamida Topshirish Treningi
LOCATION:
ORGANIZER;CN=:mailto:
SEQUENCE:1776912991
STATUS:CONFIRMED
SUMMARY:Kanada Vizalariga SI Yordamida Topshirish Treningi
END:VEVENT
END:VCALENDAR
